BEGIN:VCALENDAR
PRODID:-//SoulAndWolf//SilverStripe//EN
VERSION:2.0
BEGIN:VEVENT
DTSTART;TZID=Australia/Melbourne:20251213T100000
DTEND;TZID=Australia/Melbourne:20251213T120000
DESCRIPTION:https://www.woodards.com.au/property/12-1810-malvern-road-malvern-east-3145-1833301/
SUMMARY:Auction at 12/1810 Malvern Road
LOCATION:12/1810 Malvern Road, Malvern East, VIC 3145
URL:https://www.woodards.com.au/property/12-1810-malvern-road-malvern-east-3145-1833301/
END:VEVENT
END:VCALENDAR