BEGIN:VCALENDAR
PRODID:-//SoulAndWolf//SilverStripe//EN
VERSION:2.0
BEGIN:VEVENT
DTSTART;TZID=Australia/Melbourne:20260221T130000
DTEND;TZID=Australia/Melbourne:20260221T150000
DESCRIPTION:https://www.woodards.com.au/property/12-glover-street-bentleigh-east-3165-1853893/
SUMMARY:Auction at 12 Glover Street
LOCATION:12 Glover Street, Bentleigh East, VIC 3165
URL:https://www.woodards.com.au/property/12-glover-street-bentleigh-east-3165-1853893/
END:VEVENT
END:VCALENDAR