BEGIN:VCALENDAR
PRODID:-//SoulAndWolf//SilverStripe//EN
VERSION:2.0
BEGIN:VEVENT
DTSTART;TZID=Australia/Melbourne:20251213T110000
DTEND;TZID=Australia/Melbourne:20251213T130000
DESCRIPTION:https://www.woodards.com.au/property/12-lewis-street-flemington-3031-1831387/
SUMMARY:Auction at 12 Lewis Street
LOCATION:12 Lewis Street, Flemington, VIC 3031
URL:https://www.woodards.com.au/property/12-lewis-street-flemington-3031-1831387/
END:VEVENT
END:VCALENDAR