BEGIN:VCALENDAR
PRODID:-//SoulAndWolf//SilverStripe//EN
VERSION:2.0
BEGIN:VEVENT
DTSTART;TZID=Australia/Melbourne:20260425T130000
DTEND;TZID=Australia/Melbourne:20260425T133000
DESCRIPTION:https://www.woodards.com.au/property/12-serrell-street-malvern-east-3145-1889645/
SUMMARY:Inspection at 12 Serrell Street
LOCATION:12 Serrell Street, Malvern East, VIC 3145
URL:https://www.woodards.com.au/property/12-serrell-street-malvern-east-3145-1889645/
END:VEVENT
END:VCALENDAR