BEGIN:VCALENDAR
PRODID:-//SoulAndWolf//SilverStripe//EN
VERSION:2.0
BEGIN:VEVENT
DTSTART;TZID=Australia/Melbourne:20260502T113000
DTEND;TZID=Australia/Melbourne:20260502T120000
DESCRIPTION:https://www.woodards.com.au/property/12-st-johns-road-wonga-park-3115-1863015/
SUMMARY:Inspection at 12 St Johns Road
LOCATION:12 St Johns Road, Wonga Park, VIC 3115
URL:https://www.woodards.com.au/property/12-st-johns-road-wonga-park-3115-1863015/
END:VEVENT
END:VCALENDAR