BEGIN:VCALENDAR
PRODID:-//SoulAndWolf//SilverStripe//EN
VERSION:2.0
BEGIN:VEVENT
DTSTART;TZID=Australia/Melbourne:20260328T100000
DTEND;TZID=Australia/Melbourne:20260328T120000
DESCRIPTION:https://www.woodards.com.au/property/1245-glen-huntly-road-carnegie-3163-1874514/
SUMMARY:Auction at 1245 Glen Huntly Road
LOCATION:1245 Glen Huntly Road, Carnegie, VIC 3163
URL:https://www.woodards.com.au/property/1245-glen-huntly-road-carnegie-3163-1874514/
END:VEVENT
END:VCALENDAR