BEGIN:VCALENDAR
PRODID:-//SoulAndWolf//SilverStripe//EN
VERSION:2.0
BEGIN:VEVENT
DTSTART;TZID=Australia/Melbourne:20250816T123000
DTEND;TZID=Australia/Melbourne:20250816T143000
DESCRIPTION:https://www.woodards.com.au/property/125-clydesdale-road-airport-west-3042-1739968/
SUMMARY:Auction at 1/25 Clydesdale Road
LOCATION:1/25 Clydesdale Road, Airport West, VIC 3042
URL:https://www.woodards.com.au/property/125-clydesdale-road-airport-west-3042-1739968/
END:VEVENT
END:VCALENDAR