BEGIN:VCALENDAR
PRODID:-//SoulAndWolf//SilverStripe//EN
VERSION:2.0
BEGIN:VEVENT
DTSTART;TZID=Australia/Melbourne:20230429T110000
DTEND;TZID=Australia/Melbourne:20230429T130000
DESCRIPTION:https://www.woodards.com.au/property/12a-huntington-grove-coburg-3058-1351207/
SUMMARY:Auction at 12A Huntington Grove
LOCATION:12A Huntington Grove, Coburg, VIC 3058
URL:https://www.woodards.com.au/property/12a-huntington-grove-coburg-3058-1351207/
END:VEVENT
END:VCALENDAR