BEGIN:VCALENDAR
PRODID:-//SoulAndWolf//SilverStripe//EN
VERSION:2.0
BEGIN:VEVENT
DTSTART;TZID=Australia/Melbourne:20260228T123000
DTEND;TZID=Australia/Melbourne:20260228T143000
DESCRIPTION:https://www.woodards.com.au/property/12a-north-crescent-heidelberg-west-3081-1856654/
SUMMARY:Auction at 12A North Crescent
LOCATION:12A North Crescent, Heidelberg West, VIC 3081
URL:https://www.woodards.com.au/property/12a-north-crescent-heidelberg-west-3081-1856654/
END:VEVENT
END:VCALENDAR