BEGIN:VCALENDAR
PRODID:-//SoulAndWolf//SilverStripe//EN
VERSION:2.0
BEGIN:VEVENT
DTSTART;TZID=Australia/Melbourne:20251108T100000
DTEND;TZID=Australia/Melbourne:20251108T120000
DESCRIPTION:https://www.woodards.com.au/property/13-498-north-road-ormond-3204-1816710/
SUMMARY:Auction at 13/498 North Road
LOCATION:13/498 North Road, Ormond, VIC 3204
URL:https://www.woodards.com.au/property/13-498-north-road-ormond-3204-1816710/
END:VEVENT
END:VCALENDAR