BEGIN:VCALENDAR
PRODID:-//SoulAndWolf//SilverStripe//EN
VERSION:2.0
BEGIN:VEVENT
DTSTART;TZID=Australia/Melbourne:20260214T100000
DTEND;TZID=Australia/Melbourne:20260214T120000
DESCRIPTION:https://www.woodards.com.au/property/13-newman-avenue-carnegie-3163-1851336/
SUMMARY:Auction at 13 Newman Avenue
LOCATION:13 Newman Avenue, Carnegie, VIC 3163
URL:https://www.woodards.com.au/property/13-newman-avenue-carnegie-3163-1851336/
END:VEVENT
END:VCALENDAR