BEGIN:VCALENDAR
PRODID:-//SoulAndWolf//SilverStripe//EN
VERSION:2.0
BEGIN:VEVENT
DTSTART;TZID=Australia/Melbourne:20251213T130000
DTEND;TZID=Australia/Melbourne:20251213T150000
DESCRIPTION:https://www.woodards.com.au/property/13-oriano-street-epping-3076-1830673/
SUMMARY:Auction at 13 Oriano Street
LOCATION:13 Oriano Street, Epping, VIC 3076
URL:https://www.woodards.com.au/property/13-oriano-street-epping-3076-1830673/
END:VEVENT
END:VCALENDAR