BEGIN:VCALENDAR
PRODID:-//SoulAndWolf//SilverStripe//EN
VERSION:2.0
BEGIN:VEVENT
DTSTART;TZID=Australia/Melbourne:20251025T110000
DTEND;TZID=Australia/Melbourne:20251025T130000
DESCRIPTION:https://www.woodards.com.au/property/134-christmas-street-fairfield-3078-1810213/
SUMMARY:Auction at 134 Christmas Street
LOCATION:134 Christmas Street, Fairfield, VIC 3078
URL:https://www.woodards.com.au/property/134-christmas-street-fairfield-3078-1810213/
END:VEVENT
END:VCALENDAR