BEGIN:VCALENDAR
PRODID:-//SoulAndWolf//SilverStripe//EN
VERSION:2.0
BEGIN:VEVENT
DTSTART;TZID=Australia/Melbourne:20260425T140000
DTEND;TZID=Australia/Melbourne:20260425T143000
DESCRIPTION:https://www.woodards.com.au/property/14-28-harold-street-hawthorn-east-3123-1892139/
SUMMARY:Inspection at 14/28 Harold Street
LOCATION:14/28 Harold Street, Hawthorn East, VIC 3123
URL:https://www.woodards.com.au/property/14-28-harold-street-hawthorn-east-3123-1892139/
END:VEVENT
END:VCALENDAR