BEGIN:VCALENDAR
PRODID:-//SoulAndWolf//SilverStripe//EN
VERSION:2.0
BEGIN:VEVENT
DTSTART;TZID=Australia/Melbourne:20250301T113000
DTEND;TZID=Australia/Melbourne:20250301T133000
DESCRIPTION:https://www.woodards.com.au/property/14-andrew-court-clarinda-3169-1636657/
SUMMARY:Auction at 14 Andrew Court
LOCATION:14 Andrew Court, Clarinda, VIC 3169
URL:https://www.woodards.com.au/property/14-andrew-court-clarinda-3169-1636657/
END:VEVENT
END:VCALENDAR