BEGIN:VCALENDAR
PRODID:-//SoulAndWolf//SilverStripe//EN
VERSION:2.0
BEGIN:VEVENT
DTSTART;TZID=Australia/Melbourne:20241026T110000
DTEND;TZID=Australia/Melbourne:20241026T130000
DESCRIPTION:https://www.woodards.com.au/property/14-fraser-court-jacana-3047-1582479/
SUMMARY:Auction at 14 Fraser Court
LOCATION:14 Fraser Court, Jacana, VIC 3047
URL:https://www.woodards.com.au/property/14-fraser-court-jacana-3047-1582479/
END:VEVENT
END:VCALENDAR