BEGIN:VCALENDAR
PRODID:-//SoulAndWolf//SilverStripe//EN
VERSION:2.0
BEGIN:VEVENT
DTSTART;TZID=Australia/Melbourne:20260328T110000
DTEND;TZID=Australia/Melbourne:20260328T130000
DESCRIPTION:https://www.woodards.com.au/property/14-grandview-road-niddrie-3042-1864237/
SUMMARY:Auction at 14 Grandview Road
LOCATION:14 Grandview Road, Niddrie, VIC 3042
URL:https://www.woodards.com.au/property/14-grandview-road-niddrie-3042-1864237/
END:VEVENT
END:VCALENDAR