BEGIN:VCALENDAR
PRODID:-//SoulAndWolf//SilverStripe//EN
VERSION:2.0
BEGIN:VEVENT
DTSTART;TZID=Australia/Melbourne:20251129T123000
DTEND;TZID=Australia/Melbourne:20251129T143000
DESCRIPTION:https://www.woodards.com.au/property/14-rosella-avenue-clarinda-3169-1822969/
SUMMARY:Auction at 14 Rosella Avenue
LOCATION:14 Rosella Avenue, Clarinda, VIC 3169
URL:https://www.woodards.com.au/property/14-rosella-avenue-clarinda-3169-1822969/
END:VEVENT
END:VCALENDAR