BEGIN:VCALENDAR
PRODID:-//SoulAndWolf//SilverStripe//EN
VERSION:2.0
BEGIN:VEVENT
DTSTART;TZID=Australia/Melbourne:20260425T160000
DTEND;TZID=Australia/Melbourne:20260425T163000
DESCRIPTION:https://www.woodards.com.au/property/14-scarlet-ash-drive-templestowe-lower-3107-1875253/
SUMMARY:Inspection at 14 Scarlet Ash Drive
LOCATION:14 Scarlet Ash Drive, Templestowe Lower, VIC 3107
URL:https://www.woodards.com.au/property/14-scarlet-ash-drive-templestowe-lower-3107-1875253/
END:VEVENT
END:VCALENDAR