BEGIN:VCALENDAR
PRODID:-//SoulAndWolf//SilverStripe//EN
VERSION:2.0
BEGIN:VEVENT
DTSTART;TZID=Australia/Melbourne:20251115T110000
DTEND;TZID=Australia/Melbourne:20251115T130000
DESCRIPTION:https://www.woodards.com.au/property/14-windsor-avenue-bentleigh-3204-1818928/
SUMMARY:Auction at 14 Windsor Avenue
LOCATION:14 Windsor Avenue, Bentleigh, VIC 3204
URL:https://www.woodards.com.au/property/14-windsor-avenue-bentleigh-3204-1818928/
END:VEVENT
END:VCALENDAR