BEGIN:VCALENDAR
PRODID:-//SoulAndWolf//SilverStripe//EN
VERSION:2.0
BEGIN:VEVENT
DTSTART;TZID=Australia/Melbourne:20250719T123000
DTEND;TZID=Australia/Melbourne:20250719T143000
DESCRIPTION:https://www.woodards.com.au/property/140-marshall-road-airport-west-3042-1724953/
SUMMARY:Auction at 140 Marshall Road
LOCATION:140 Marshall Road, Airport West, VIC 3042
URL:https://www.woodards.com.au/property/140-marshall-road-airport-west-3042-1724953/
END:VEVENT
END:VCALENDAR