BEGIN:VCALENDAR
PRODID:-//SoulAndWolf//SilverStripe//EN
VERSION:2.0
BEGIN:VEVENT
DTSTART;TZID=Australia/Melbourne:20260429T150000
DTEND;TZID=Australia/Melbourne:20260429T153000
DESCRIPTION:https://www.woodards.com.au/property/141a-warrandyte-road-ringwood-north-3134-1885618/
SUMMARY:Inspection at 141A Warrandyte Road
LOCATION:141A Warrandyte Road, Ringwood North, VIC 3134
URL:https://www.woodards.com.au/property/141a-warrandyte-road-ringwood-north-3134-1885618/
END:VEVENT
END:VCALENDAR