BEGIN:VCALENDAR
PRODID:-//SoulAndWolf//SilverStripe//EN
VERSION:2.0
BEGIN:VEVENT
DTSTART;TZID=Australia/Melbourne:20260425T130000
DTEND;TZID=Australia/Melbourne:20260425T133000
DESCRIPTION:https://www.woodards.com.au/property/147-pigdon-street-carlton-north-3054-1887239/
SUMMARY:Inspection at 147 Pigdon Street
LOCATION:147 Pigdon Street, Carlton North, VIC 3054
URL:https://www.woodards.com.au/property/147-pigdon-street-carlton-north-3054-1887239/
END:VEVENT
END:VCALENDAR