BEGIN:VCALENDAR
PRODID:-//SoulAndWolf//SilverStripe//EN
VERSION:2.0
BEGIN:VEVENT
DTSTART;TZID=Australia/Melbourne:20251213T110000
DTEND;TZID=Australia/Melbourne:20251213T130000
DESCRIPTION:https://www.woodards.com.au/property/147-sadie-street-glenroy-3046-1833616/
SUMMARY:Auction at 1/47 Sadie Street
LOCATION:1/47 Sadie Street, Glenroy, VIC 3046
URL:https://www.woodards.com.au/property/147-sadie-street-glenroy-3046-1833616/
END:VEVENT
END:VCALENDAR