BEGIN:VCALENDAR
PRODID:-//SoulAndWolf//SilverStripe//EN
VERSION:2.0
BEGIN:VEVENT
DTSTART;TZID=Australia/Melbourne:20250816T100000
DTEND;TZID=Australia/Melbourne:20250816T120000
DESCRIPTION:https://www.woodards.com.au/property/14a-190-albert-street-east-melbourne-3002-1740236/
SUMMARY:Auction at 14a/190 Albert Street
LOCATION:14a/190 Albert Street, East Melbourne, VIC 3002
URL:https://www.woodards.com.au/property/14a-190-albert-street-east-melbourne-3002-1740236/
END:VEVENT
END:VCALENDAR