BEGIN:VCALENDAR
PRODID:-//SoulAndWolf//SilverStripe//EN
VERSION:2.0
BEGIN:VEVENT
DTSTART;TZID=Australia/Melbourne:20251122T140000
DTEND;TZID=Australia/Melbourne:20251122T160000
DESCRIPTION:https://www.woodards.com.au/property/15-ash-grove-keilor-east-3033-1822887/
SUMMARY:Auction at 15 Ash Grove
LOCATION:15 Ash Grove, Keilor East, VIC 3033
URL:https://www.woodards.com.au/property/15-ash-grove-keilor-east-3033-1822887/
END:VEVENT
END:VCALENDAR