BEGIN:VCALENDAR
PRODID:-//SoulAndWolf//SilverStripe//EN
VERSION:2.0
BEGIN:VEVENT
DTSTART;TZID=Australia/Melbourne:20251213T130000
DTEND;TZID=Australia/Melbourne:20251213T150000
DESCRIPTION:https://www.woodards.com.au/property/15-banksia-avenue-thomastown-3074-1832714/
SUMMARY:Auction at 15 Banksia Avenue
LOCATION:15 Banksia Avenue, Thomastown, VIC 3074
URL:https://www.woodards.com.au/property/15-banksia-avenue-thomastown-3074-1832714/
END:VEVENT
END:VCALENDAR