BEGIN:VCALENDAR
PRODID:-//SoulAndWolf//SilverStripe//EN
VERSION:2.0
BEGIN:VEVENT
DTSTART;TZID=Australia/Melbourne:20240914T130000
DTEND;TZID=Australia/Melbourne:20240914T150000
DESCRIPTION:https://www.woodards.com.au/property/15-bataba-street-moorabbin-3189-1565106/
SUMMARY:Auction at 15 Bataba Street
LOCATION:15 Bataba Street, Moorabbin, VIC 3189
URL:https://www.woodards.com.au/property/15-bataba-street-moorabbin-3189-1565106/
END:VEVENT
END:VCALENDAR