BEGIN:VCALENDAR
PRODID:-//SoulAndWolf//SilverStripe//EN
VERSION:2.0
BEGIN:VEVENT
DTSTART;TZID=Australia/Melbourne:20241214T123000
DTEND;TZID=Australia/Melbourne:20241214T143000
DESCRIPTION:https://www.woodards.com.au/property/15-charles-street-preston-3072-1609712/
SUMMARY:Auction at 15 Charles Street
LOCATION:15 Charles Street, Preston, VIC 3072
URL:https://www.woodards.com.au/property/15-charles-street-preston-3072-1609712/
END:VEVENT
END:VCALENDAR