BEGIN:VCALENDAR
PRODID:-//SoulAndWolf//SilverStripe//EN
VERSION:2.0
BEGIN:VEVENT
DTSTART;TZID=Australia/Melbourne:20250920T103000
DTEND;TZID=Australia/Melbourne:20250920T123000
DESCRIPTION:https://www.woodards.com.au/property/15-ethel-street-thornbury-3071-1770741/
SUMMARY:Auction at 15 Ethel Street
LOCATION:15 Ethel Street, Thornbury, VIC 3071
URL:https://www.woodards.com.au/property/15-ethel-street-thornbury-3071-1770741/
END:VEVENT
END:VCALENDAR