BEGIN:VCALENDAR
PRODID:-//SoulAndWolf//SilverStripe//EN
VERSION:2.0
BEGIN:VEVENT
DTSTART;TZID=Australia/Melbourne:20251206T140000
DTEND;TZID=Australia/Melbourne:20251206T160000
DESCRIPTION:https://www.woodards.com.au/property/15-niagara-road-donvale-3111-1830718/
SUMMARY:Auction at 15 Niagara Road
LOCATION:15 Niagara Road, Donvale, VIC 3111
URL:https://www.woodards.com.au/property/15-niagara-road-donvale-3111-1830718/
END:VEVENT
END:VCALENDAR