BEGIN:VCALENDAR
PRODID:-//SoulAndWolf//SilverStripe//EN
VERSION:2.0
BEGIN:VEVENT
DTSTART;TZID=Australia/Melbourne:20241019T123000
DTEND;TZID=Australia/Melbourne:20241019T143000
DESCRIPTION:https://www.woodards.com.au/property/15-rhonda-street-doncaster-3108-1532649/
SUMMARY:Auction at 15 Rhonda Street
LOCATION:15 Rhonda Street, Doncaster, VIC 3108
URL:https://www.woodards.com.au/property/15-rhonda-street-doncaster-3108-1532649/
END:VEVENT
END:VCALENDAR