BEGIN:VCALENDAR
PRODID:-//SoulAndWolf//SilverStripe//EN
VERSION:2.0
BEGIN:VEVENT
DTSTART;TZID=Australia/Melbourne:20260207T120000
DTEND;TZID=Australia/Melbourne:20260207T140000
DESCRIPTION:https://www.woodards.com.au/property/155b-gooch-street-thornbury-3071-1848143/
SUMMARY:Auction at 155B Gooch Street
LOCATION:155B Gooch Street, Thornbury, VIC 3071
URL:https://www.woodards.com.au/property/155b-gooch-street-thornbury-3071-1848143/
END:VEVENT
END:VCALENDAR