BEGIN:VCALENDAR
PRODID:-//SoulAndWolf//SilverStripe//EN
VERSION:2.0
BEGIN:VEVENT
DTSTART;TZID=Australia/Melbourne:20251206T110000
DTEND;TZID=Australia/Melbourne:20251206T130000
DESCRIPTION:https://www.woodards.com.au/property/157-buckley-street-moonee-ponds-3039-1828225/
SUMMARY:Auction at 1/57 Buckley Street
LOCATION:1/57 Buckley Street, Moonee Ponds, VIC 3039
URL:https://www.woodards.com.au/property/157-buckley-street-moonee-ponds-3039-1828225/
END:VEVENT
END:VCALENDAR