BEGIN:VCALENDAR
PRODID:-//SoulAndWolf//SilverStripe//EN
VERSION:2.0
BEGIN:VEVENT
DTSTART;TZID=Australia/Melbourne:20250809T123000
DTEND;TZID=Australia/Melbourne:20250809T143000
DESCRIPTION:https://www.woodards.com.au/property/159-parer-road-airport-west-3042-1723564/
SUMMARY:Auction at 1/59 Parer Road
LOCATION:1/59 Parer Road, Airport West, VIC 3042
URL:https://www.woodards.com.au/property/159-parer-road-airport-west-3042-1723564/
END:VEVENT
END:VCALENDAR