BEGIN:VCALENDAR
PRODID:-//SoulAndWolf//SilverStripe//EN
VERSION:2.0
BEGIN:VEVENT
DTSTART;TZID=Australia/Melbourne:20260425T130000
DTEND;TZID=Australia/Melbourne:20260425T133000
DESCRIPTION:https://www.woodards.com.au/property/15a-wicklow-street-ormond-3204-1890067/
SUMMARY:Inspection at 15A Wicklow Street
LOCATION:15A Wicklow Street, Ormond, VIC 3204
URL:https://www.woodards.com.au/property/15a-wicklow-street-ormond-3204-1890067/
END:VEVENT
END:VCALENDAR