BEGIN:VCALENDAR
PRODID:-//SoulAndWolf//SilverStripe//EN
VERSION:2.0
BEGIN:VEVENT
DTSTART;TZID=Australia/Melbourne:20260328T123000
DTEND;TZID=Australia/Melbourne:20260328T143000
DESCRIPTION:https://www.woodards.com.au/property/16-lincoln-avenue-oakleigh-3166-1873825/
SUMMARY:Auction at 16 Lincoln Avenue
LOCATION:16 Lincoln Avenue, Oakleigh, VIC 3166
URL:https://www.woodards.com.au/property/16-lincoln-avenue-oakleigh-3166-1873825/
END:VEVENT
END:VCALENDAR