BEGIN:VCALENDAR
PRODID:-//SoulAndWolf//SilverStripe//EN
VERSION:2.0
BEGIN:VEVENT
DTSTART;TZID=Australia/Melbourne:20230513T120000
DTEND;TZID=Australia/Melbourne:20230513T140000
DESCRIPTION:https://www.woodards.com.au/property/164-dundas-street-thornbury-3071-1276748/
SUMMARY:Auction at 164 Dundas Street
LOCATION:164 Dundas Street, Thornbury, VIC 3071
URL:https://www.woodards.com.au/property/164-dundas-street-thornbury-3071-1276748/
END:VEVENT
END:VCALENDAR