BEGIN:VCALENDAR
PRODID:-//SoulAndWolf//SilverStripe//EN
VERSION:2.0
BEGIN:VEVENT
DTSTART;TZID=Australia/Melbourne:20251122T140000
DTEND;TZID=Australia/Melbourne:20251122T160000
DESCRIPTION:https://www.woodards.com.au/property/167-roberts-road-airport-west-3042-1822104/
SUMMARY:Auction at 1/67 Roberts Road
LOCATION:1/67 Roberts Road, Airport West, VIC 3042
URL:https://www.woodards.com.au/property/167-roberts-road-airport-west-3042-1822104/
END:VEVENT
END:VCALENDAR