BEGIN:VCALENDAR
PRODID:-//SoulAndWolf//SilverStripe//EN
VERSION:2.0
BEGIN:VEVENT
DTSTART;TZID=Australia/Melbourne:20251025T110000
DTEND;TZID=Australia/Melbourne:20251025T130000
DESCRIPTION:https://www.woodards.com.au/property/17-bray-court-bentleigh-east-3165-1810674/
SUMMARY:Auction at 17 Bray Court
LOCATION:17 Bray Court, Bentleigh East, VIC 3165
URL:https://www.woodards.com.au/property/17-bray-court-bentleigh-east-3165-1810674/
END:VEVENT
END:VCALENDAR