BEGIN:VCALENDAR
PRODID:-//SoulAndWolf//SilverStripe//EN
VERSION:2.0
BEGIN:VEVENT
DTSTART;TZID=Australia/Melbourne:20260425T133000
DTEND;TZID=Australia/Melbourne:20260425T134500
DESCRIPTION:https://www.woodards.com.au/property/17-cyril-st-ashburton-3147-1889154/
SUMMARY:Inspection at 17 Cyril St
LOCATION:17 Cyril St, Ashburton, VIC 3147
URL:https://www.woodards.com.au/property/17-cyril-st-ashburton-3147-1889154/
END:VEVENT
END:VCALENDAR