BEGIN:VCALENDAR
PRODID:-//SoulAndWolf//SilverStripe//EN
VERSION:2.0
BEGIN:VEVENT
DTSTART;TZID=Australia/Melbourne:20260228T110000
DTEND;TZID=Australia/Melbourne:20260228T130000
DESCRIPTION:https://www.woodards.com.au/property/17-lorraine-drive-burwood-east-3151-1856093/
SUMMARY:Auction at 17 Lorraine Drive
LOCATION:17 Lorraine Drive, Burwood East, VIC 3151
URL:https://www.woodards.com.au/property/17-lorraine-drive-burwood-east-3151-1856093/
END:VEVENT
END:VCALENDAR