BEGIN:VCALENDAR
PRODID:-//SoulAndWolf//SilverStripe//EN
VERSION:2.0
BEGIN:VEVENT
DTSTART;TZID=Australia/Melbourne:20260314T103000
DTEND;TZID=Australia/Melbourne:20260314T123000
DESCRIPTION:https://www.woodards.com.au/property/17-mountfield-avenue-malvern-east-3145-1858382/
SUMMARY:Auction at 17 Mountfield Avenue
LOCATION:17 Mountfield Avenue, Malvern East, VIC 3145
URL:https://www.woodards.com.au/property/17-mountfield-avenue-malvern-east-3145-1858382/
END:VEVENT
END:VCALENDAR