BEGIN:VCALENDAR
PRODID:-//SoulAndWolf//SilverStripe//EN
VERSION:2.0
BEGIN:VEVENT
DTSTART;TZID=Australia/Melbourne:20251206T130000
DTEND;TZID=Australia/Melbourne:20251206T150000
DESCRIPTION:https://www.woodards.com.au/property/172-tivoli-road-south-yarra-3141-1815938/
SUMMARY:Auction at 1/72 Tivoli Road
LOCATION:1/72 Tivoli Road, South Yarra, VIC 3141
URL:https://www.woodards.com.au/property/172-tivoli-road-south-yarra-3141-1815938/
END:VEVENT
END:VCALENDAR