BEGIN:VCALENDAR
PRODID:-//SoulAndWolf//SilverStripe//EN
VERSION:2.0
BEGIN:VEVENT
DTSTART;TZID=Australia/Melbourne:20230715T103000
DTEND;TZID=Australia/Melbourne:20230715T123000
DESCRIPTION:https://www.woodards.com.au/property/17b-surrey-street-bentleigh-east-3165-1388250/
SUMMARY:Auction at 17B Surrey Street
LOCATION:17B Surrey Street, Bentleigh East, VIC 3165
URL:https://www.woodards.com.au/property/17b-surrey-street-bentleigh-east-3165-1388250/
END:VEVENT
END:VCALENDAR