BEGIN:VCALENDAR
PRODID:-//SoulAndWolf//SilverStripe//EN
VERSION:2.0
BEGIN:VEVENT
DTSTART;TZID=Australia/Melbourne:20260425T150000
DTEND;TZID=Australia/Melbourne:20260425T152000
DESCRIPTION:https://www.woodards.com.au/property/18-355-rathdowne-street-carlton-3053-1892262/
SUMMARY:Inspection at 18/355 Rathdowne Street
LOCATION:18/355 Rathdowne Street, Carlton, VIC 3053
URL:https://www.woodards.com.au/property/18-355-rathdowne-street-carlton-3053-1892262/
END:VEVENT
END:VCALENDAR