BEGIN:VCALENDAR
PRODID:-//SoulAndWolf//SilverStripe//EN
VERSION:2.0
BEGIN:VEVENT
DTSTART;TZID=Australia/Melbourne:20251004T123000
DTEND;TZID=Australia/Melbourne:20251004T143000
DESCRIPTION:https://www.woodards.com.au/property/18-mitchell-street-blackburn-north-3130-1775048/
SUMMARY:Auction at 18 Mitchell Street
LOCATION:18 Mitchell Street, Blackburn North, VIC 3130
URL:https://www.woodards.com.au/property/18-mitchell-street-blackburn-north-3130-1775048/
END:VEVENT
END:VCALENDAR