BEGIN:VCALENDAR
PRODID:-//SoulAndWolf//SilverStripe//EN
VERSION:2.0
BEGIN:VEVENT
DTSTART;TZID=Australia/Melbourne:20260428T170000
DTEND;TZID=Australia/Melbourne:20260428T173000
DESCRIPTION:https://www.woodards.com.au/property/18-statesman-crescent-mooroolbark-3138-1889308/
SUMMARY:Inspection at 18 Statesman Crescent
LOCATION:18 Statesman Crescent, Mooroolbark, VIC 3138
URL:https://www.woodards.com.au/property/18-statesman-crescent-mooroolbark-3138-1889308/
END:VEVENT
END:VCALENDAR