BEGIN:VCALENDAR
PRODID:-//SoulAndWolf//SilverStripe//EN
VERSION:2.0
BEGIN:VEVENT
DTSTART;TZID=Australia/Melbourne:20260321T130000
DTEND;TZID=Australia/Melbourne:20260321T150000
DESCRIPTION:https://www.woodards.com.au/property/18-wright-street-bentleigh-3204-1871919/
SUMMARY:Auction at 18 Wright Street
LOCATION:18 Wright Street, Bentleigh, VIC 3204
URL:https://www.woodards.com.au/property/18-wright-street-bentleigh-3204-1871919/
END:VEVENT
END:VCALENDAR