BEGIN:VCALENDAR
PRODID:-//SoulAndWolf//SilverStripe//EN
VERSION:2.0
BEGIN:VEVENT
DTSTART;TZID=Australia/Melbourne:20260502T150000
DTEND;TZID=Australia/Melbourne:20260502T170000
DESCRIPTION:https://www.woodards.com.au/property/19-89-neerim-road-glen-huntly-3163-1886680/
SUMMARY:Auction at 19/89 Neerim Road
LOCATION:19/89 Neerim Road, Glen Huntly, VIC 3163
URL:https://www.woodards.com.au/property/19-89-neerim-road-glen-huntly-3163-1886680/
END:VEVENT
END:VCALENDAR